BEGIN:VCALENDAR
VERSION:2.0
PRODID:-//Meadowlake - ECPv6.15.20//NONSGML v1.0//EN
CALSCALE:GREGORIAN
METHOD:PUBLISH
X-WR-CALNAME:Meadowlake
X-ORIGINAL-URL:https://www.meadowlakecourse.com
X-WR-CALDESC:Events for Meadowlake
REFRESH-INTERVAL;VALUE=DURATION:PT1H
X-Robots-Tag:noindex
X-PUBLISHED-TTL:PT1H
BEGIN:VTIMEZONE
TZID:America/Toronto
BEGIN:DAYLIGHT
TZOFFSETFROM:-0500
TZOFFSETTO:-0400
TZNAME:EDT
DTSTART:20180311T070000
END:DAYLIGHT
BEGIN:STANDARD
TZOFFSETFROM:-0400
TZOFFSETTO:-0500
TZNAME:EST
DTSTART:20181104T060000
END:STANDARD
BEGIN:DAYLIGHT
TZOFFSETFROM:-0500
TZOFFSETTO:-0400
TZNAME:EDT
DTSTART:20190310T070000
END:DAYLIGHT
BEGIN:STANDARD
TZOFFSETFROM:-0400
TZOFFSETTO:-0500
TZNAME:EST
DTSTART:20191103T060000
END:STANDARD
BEGIN:DAYLIGHT
TZOFFSETFROM:-0500
TZOFFSETTO:-0400
TZNAME:EDT
DTSTART:20200308T070000
END:DAYLIGHT
BEGIN:STANDARD
TZOFFSETFROM:-0400
TZOFFSETTO:-0500
TZNAME:EST
DTSTART:20201101T060000
END:STANDARD
END:VTIMEZONE
BEGIN:VEVENT
DTSTART;TZID=America/Toronto:20190601T123000
DTEND;TZID=America/Toronto:20190602T130000
DTSTAMP:20260422T045856
CREATED:20190502T162349Z
LAST-MODIFIED:20190502T162349Z
UID:5204-1559392200-1559480400@www.meadowlakecourse.com
SUMMARY:Couples Tee for 2
DESCRIPTION:Couples Tournament \n12:30 PM Shotgun Saturday\, June 1 – 8:30 AM Shotgun Sunday\, June 2 \n$280 per couple includes all fees\, dinner Saturday and light breakfast Sunday\, payouts
URL:https://www.meadowlakecourse.com/event/couples-tee-for-2/
END:VEVENT
BEGIN:VEVENT
DTSTART;TZID=America/Toronto:20190524T083000
DTEND;TZID=America/Toronto:20190524T173000
DTSTAMP:20260422T045856
CREATED:20190502T162059Z
LAST-MODIFIED:20190513T201726Z
UID:5201-1558686600-1558719000@www.meadowlakecourse.com
SUMMARY:AMBUCS Fundraiser
DESCRIPTION:Morning and Afternoon Shotgun \n4-person scramble \n$60 per player/$240 per team
URL:https://www.meadowlakecourse.com/event/ambucs-fundraiser/
END:VEVENT
BEGIN:VEVENT
DTSTART;TZID=America/Toronto:20190519T080000
DTEND;TZID=America/Toronto:20190520T170000
DTSTAMP:20260422T045856
CREATED:20190502T161436Z
LAST-MODIFIED:20190502T161436Z
UID:5197-1558252800-1558371600@www.meadowlakecourse.com
SUMMARY:Men's Association Low Gross/Low Net
DESCRIPTION:2-day Individual Event \nAM Tee Times Saturday – PM Tee Times Sunday \nEntry Fee: $80  Members: $40  Carts optional and extra \nEntry includes skins Saturday and day money Sunday\, closest to the pins each day \nFlighted by handicap\, gross and net payouts in each flight \nQualifier for 4 spots in the 2019 Enid Ryder Cup vs. Oakwood CC
URL:https://www.meadowlakecourse.com/event/mens-association-low-gross-low-net/
END:VEVENT
BEGIN:VEVENT
DTSTART;TZID=America/Toronto:20190517T133000
DTEND;TZID=America/Toronto:20190517T180000
DTSTAMP:20260422T045856
CREATED:20190502T160843Z
LAST-MODIFIED:20190502T160843Z
UID:5194-1558099800-1558116000@www.meadowlakecourse.com
SUMMARY:Kremlin Jim Craig Memorial Fundraiser 1:30 PM SG
DESCRIPTION:
URL:https://www.meadowlakecourse.com/event/kremlin-jim-craig-memorial-fundraiser-130-pm-sg/
END:VEVENT
BEGIN:VEVENT
DTSTART;TZID=America/Toronto:20190516T123000
DTEND;TZID=America/Toronto:20190516T170000
DTSTAMP:20260422T045856
CREATED:20190502T160734Z
LAST-MODIFIED:20190502T160734Z
UID:5190-1558009800-1558026000@www.meadowlakecourse.com
SUMMARY:Lil Ed's 12:30 PM Shotgun
DESCRIPTION:
URL:https://www.meadowlakecourse.com/event/lil-eds-1230-pm-shotgun/
END:VEVENT
BEGIN:VEVENT
DTSTART;TZID=America/Toronto:20190515T080000
DTEND;TZID=America/Toronto:20190515T123000
DTSTAMP:20260422T045856
CREATED:20190502T160624Z
LAST-MODIFIED:20190502T160624Z
UID:5187-1557907200-1557923400@www.meadowlakecourse.com
SUMMARY:Vance AFB Police Week 8:00 SG
DESCRIPTION:Tee times still available to the public
URL:https://www.meadowlakecourse.com/event/vance-afb-police-week-800-sg/
END:VEVENT
BEGIN:VEVENT
DTSTART;TZID=America/Toronto:20190511T080000
DTEND;TZID=America/Toronto:20190511T123000
DTSTAMP:20260422T045856
CREATED:20190502T160454Z
LAST-MODIFIED:20190502T160532Z
UID:5184-1557561600-1557577800@www.meadowlakecourse.com
SUMMARY:Oklahoma Shock Basketball Fundraiser 8:00 SG
DESCRIPTION:Tee times will still be available to the public.
URL:https://www.meadowlakecourse.com/event/oklahoma-shock-basketball-fundraiser-800-sg/
END:VEVENT
BEGIN:VEVENT
DTSTART;TZID=America/Toronto:20190505T140000
DTEND;TZID=America/Toronto:20190505T183000
DTSTAMP:20260422T045856
CREATED:20190502T160322Z
LAST-MODIFIED:20190502T160322Z
UID:5181-1557064800-1557081000@www.meadowlakecourse.com
SUMMARY:Cinco de Mayo 2-person 6-6-6
DESCRIPTION:2:00 Shotgun 6 holes each scramble\, low ball\, alternate shot \nMembers: $20  Guests: $55 including cart
URL:https://www.meadowlakecourse.com/event/cinco-de-mayo-2-person-6-6-6/
END:VEVENT
BEGIN:VEVENT
DTSTART;TZID=America/Toronto:20190330T080000
DTEND;TZID=America/Toronto:20190330T170000
DTSTAMP:20260422T045856
CREATED:20190223T173351Z
LAST-MODIFIED:20190223T173423Z
UID:5013-1553932800-1553965200@www.meadowlakecourse.com
SUMMARY:Fourball Semi-Finals
DESCRIPTION:Tee Times
URL:https://www.meadowlakecourse.com/event/meadowlake-oakwood-fourball-2/
END:VEVENT
BEGIN:VEVENT
DTSTART;TZID=America/Toronto:20190327T090000
DTEND;TZID=America/Toronto:20190327T143000
DTSTAMP:20260422T045856
CREATED:20190223T173026Z
LAST-MODIFIED:20190312T185503Z
UID:5003-1553677200-1553697000@www.meadowlakecourse.com
SUMMARY:Pioneer Boys
DESCRIPTION:9:00 AM Shotgun
URL:https://www.meadowlakecourse.com/event/pioneer-girls/
END:VEVENT
BEGIN:VEVENT
DTSTART;TZID=America/Toronto:20190324T083000
DTEND;TZID=America/Toronto:20190324T123000
DTSTAMP:20260422T045856
CREATED:20190315T145745Z
LAST-MODIFIED:20190315T145745Z
UID:5177-1553416200-1553430600@www.meadowlakecourse.com
SUMMARY:Enid 4-Ball
DESCRIPTION:Tee Times starting at 8:30 AM
URL:https://www.meadowlakecourse.com/event/enid-4-ball/
END:VEVENT
BEGIN:VEVENT
DTSTART;TZID=America/Toronto:20190323T080000
DTEND;TZID=America/Toronto:20190323T130000
DTSTAMP:20260422T045856
CREATED:20190223T173259Z
LAST-MODIFIED:20190312T185718Z
UID:5010-1553328000-1553346000@www.meadowlakecourse.com
SUMMARY:Meadowlake-Oakwood Fourball
DESCRIPTION:Morning Tee Times \n2-person teams flighted by handicap – $90 per player \nDeadline to sign up is Sunday\, March 17
URL:https://www.meadowlakecourse.com/event/meadowlake-oakwood-fourball/
END:VEVENT
BEGIN:VEVENT
DTSTART;TZID=America/Toronto:20190314T173000
DTEND;TZID=America/Toronto:20190314T210000
DTSTAMP:20260422T045856
CREATED:20190223T173200Z
LAST-MODIFIED:20190223T173215Z
UID:5007-1552584600-1552597200@www.meadowlakecourse.com
SUMMARY:Men's Night Begins!
DESCRIPTION:5:30 PM
URL:https://www.meadowlakecourse.com/event/mens-night-begins/
END:VEVENT
BEGIN:VEVENT
DTSTART;TZID=America/Toronto:20190309T130000
DTEND;TZID=America/Toronto:20190309T170000
DTSTAMP:20260422T045856
CREATED:20190223T171137Z
LAST-MODIFIED:20190223T171137Z
UID:5000-1552136400-1552150800@www.meadowlakecourse.com
SUMMARY:Mens Association 2-Man Low Ball
DESCRIPTION:1:00 SG
URL:https://www.meadowlakecourse.com/event/mens-association-2-man-low-ball/
END:VEVENT
BEGIN:VEVENT
DTSTART;TZID=America/Toronto:20190210T120000
DTEND;TZID=America/Toronto:20190210T170000
DTSTAMP:20260422T045856
CREATED:20190223T171033Z
LAST-MODIFIED:20190223T171033Z
UID:4997-1549800000-1549818000@www.meadowlakecourse.com
SUMMARY:Frosty Open
DESCRIPTION:2-person scramble – living on the edge
URL:https://www.meadowlakecourse.com/event/frosty-open/
END:VEVENT
END:VCALENDAR